BEGIN:VCALENDAR
VERSION:2.0
PRODID:-//Franmeisters DIY Bar - ECPv6.15.20//NONSGML v1.0//EN
CALSCALE:GREGORIAN
METHOD:PUBLISH
X-WR-CALNAME:Franmeisters DIY Bar
X-ORIGINAL-URL:https://franmeisters.de
X-WR-CALDESC:Veranstaltungen für Franmeisters DIY Bar
REFRESH-INTERVAL;VALUE=DURATION:PT1H
X-Robots-Tag:noindex
X-PUBLISHED-TTL:PT1H
BEGIN:VTIMEZONE
TZID:Europe/Paris
BEGIN:DAYLIGHT
TZOFFSETFROM:+0100
TZOFFSETTO:+0200
TZNAME:CEST
DTSTART:20240331T010000
END:DAYLIGHT
BEGIN:STANDARD
TZOFFSETFROM:+0200
TZOFFSETTO:+0100
TZNAME:CET
DTSTART:20241027T010000
END:STANDARD
BEGIN:DAYLIGHT
TZOFFSETFROM:+0100
TZOFFSETTO:+0200
TZNAME:CEST
DTSTART:20250330T010000
END:DAYLIGHT
BEGIN:STANDARD
TZOFFSETFROM:+0200
TZOFFSETTO:+0100
TZNAME:CET
DTSTART:20251026T010000
END:STANDARD
BEGIN:DAYLIGHT
TZOFFSETFROM:+0100
TZOFFSETTO:+0200
TZNAME:CEST
DTSTART:20260329T010000
END:DAYLIGHT
BEGIN:STANDARD
TZOFFSETFROM:+0200
TZOFFSETTO:+0100
TZNAME:CET
DTSTART:20261025T010000
END:STANDARD
END:VTIMEZONE
BEGIN:VTIMEZONE
TZID:Europe/Berlin
BEGIN:DAYLIGHT
TZOFFSETFROM:+0100
TZOFFSETTO:+0200
TZNAME:CEST
DTSTART:20230326T010000
END:DAYLIGHT
BEGIN:STANDARD
TZOFFSETFROM:+0200
TZOFFSETTO:+0100
TZNAME:CET
DTSTART:20231029T010000
END:STANDARD
BEGIN:DAYLIGHT
TZOFFSETFROM:+0100
TZOFFSETTO:+0200
TZNAME:CEST
DTSTART:20240331T010000
END:DAYLIGHT
BEGIN:STANDARD
TZOFFSETFROM:+0200
TZOFFSETTO:+0100
TZNAME:CET
DTSTART:20241027T010000
END:STANDARD
BEGIN:DAYLIGHT
TZOFFSETFROM:+0100
TZOFFSETTO:+0200
TZNAME:CEST
DTSTART:20250330T010000
END:DAYLIGHT
BEGIN:STANDARD
TZOFFSETFROM:+0200
TZOFFSETTO:+0100
TZNAME:CET
DTSTART:20251026T010000
END:STANDARD
BEGIN:DAYLIGHT
TZOFFSETFROM:+0100
TZOFFSETTO:+0200
TZNAME:CEST
DTSTART:20260329T010000
END:DAYLIGHT
BEGIN:STANDARD
TZOFFSETFROM:+0200
TZOFFSETTO:+0100
TZNAME:CET
DTSTART:20261025T010000
END:STANDARD
END:VTIMEZONE
BEGIN:VTIMEZONE
TZID:UTC
BEGIN:STANDARD
TZOFFSETFROM:+0000
TZOFFSETTO:+0000
TZNAME:UTC
DTSTART:20230101T000000
END:STANDARD
END:VTIMEZONE
BEGIN:VEVENT
DTSTART;TZID=Europe/Paris:20251116T103000
DTEND;TZID=Europe/Paris:20251116T170000
DTSTAMP:20260421T102616
CREATED:20240610T110845Z
LAST-MODIFIED:20250925T123645Z
UID:10000180-1763289000-1763312400@franmeisters.de
SUMMARY:Animal Sketching - tierisch einfach! #Tag 2
DESCRIPTION:Animal Sketching – tierisch einfach Ob Hund\, Katze oder Elefant: In diesem Workshop bringst Du Tiere mit Stift\, Farbe und Fantasie aufs Papier. Locker\, lebendig und kreativ – für Anfänger*innen wie Fortgeschrittene. \nAnimal Sketching – tierisch einfach: Tiere in Zeichnung und Mixed Media \nHund\, Katze\, Maus … Elefant\, Adler & Co. – in diesem Workshop liefert uns die Vielfalt der Tierwelt die Motive. Ob Haustier oder Wildtier\, ob locker und schnell oder etwas detaillierter: Gemeinsam bringen wir Tiere mit Stift\, Farbe und Fantasie zu Papier. Gearbeitet wird nach Fotovorlagen. Nach Absprache dürfen auch eigene Vorlagen oder sogar das eigene Haustier mitgebracht werden – sofern es sich für ein ruhiges Live-Skizzieren eignet. \n. \n  \nMaterial & Techniken \nMit Fineliner\, Aquarell\, Farbstiften und Mixed Media entstehen lebendige Skizzen\, die sowohl Spaß machen als auch vielfältige kreative Möglichkeiten eröffnen. \nZielgruppe \nFür Anfänger*innen und Fortgeschrittene\, die Lust haben\, Tiere zeichnerisch und malerisch zu entdecken und ihren persönlichen Stil weiterzuentwickeln. \nAblauf \nTag 1: Einführung in verschiedene Zeichentechniken und Übergang zur Malerei mit wasservermalbaren Medien. Wir arbeiten an Formen\, Proportionen\, An- und Ausschnitten\, Haut-\, Feder- und Fellstrukturen sowie am „In-Szene-Setzen“ der Motive. Im Mittelpunkt steht die lockere und leichte Umsetzung in der Skizze. \nTag 2: Kombination von Zeichnung und Aquarell mit weiteren Medien (zum Teil vom Kursleiter gestellt). Die Mixed-Media-Techniken eröffnen neue Ausdrucksmöglichkeiten und regen die Fantasie an. \nDer zweite Tag baut auf dem ersten auf\, beide Tage sind jedoch auch einzeln buchbar. \nDu kannst den 2-tägigen Kurs ohne Material buchen für 238.- € oder inklusive Material im Wert von ca. 50.- € für 258.- €.  \nDie Kursgebühren für einzelne Tage betragen 119.- € ohne und 139.- € mit Materialpaket. \nDie Anmeldung erfolgt per Mail über urbansketching@chrisa.de \nDie Materialliste erhältst Du mit der Buchung. \nWenn Du noch Fragen hast\, sende eine Mail oder ruf an: 0172 3284026 \n  \nKünstler / Mitwirkende\nHans-Christian Sanladerer www.chrisa.de @illuchrisa www.instagram.com/illuchrisa www.facebook.com/illuchrisa www.pinterest.com/illuchrisa
URL:https://franmeisters.de/kalender/urban-sketching-die-kunst-der-reduktion/
LOCATION:Franmeisters DIY Bar\, Obere Kanalstraße 11A\, Nürnberg\, 90429\, Deutschland
CATEGORIES:Urban Sketching
ATTACH;FMTTYPE=image/jpeg:https://franmeisters.de/wp-content/uploads/2025/09/Seeadler-chrisa-hans-christian-sanladerer3-1-e1758803481515.jpg
END:VEVENT
BEGIN:VEVENT
DTSTART;TZID=Europe/Berlin:20251115T103000
DTEND;TZID=Europe/Berlin:20251115T170000
DTSTAMP:20260421T102616
CREATED:20241106T142503Z
LAST-MODIFIED:20250925T124457Z
UID:10000232-1763202600-1763226000@franmeisters.de
SUMMARY:Animal Sketching - tierisch einfach! #Tag 1
DESCRIPTION:Animal Sketching – tierisch einfach Ob Hund\, Katze oder Elefant: In diesem Workshop bringst Du Tiere mit Stift\, Farbe und Fantasie aufs Papier. Locker\, lebendig und kreativ – für Anfänger*innen wie Fortgeschrittene. \nAnimal Sketching – tierisch einfach: Tiere in Zeichnung und Mixed Media \nHund\, Katze\, Maus … Elefant\, Adler & Co. – in diesem Workshop liefert uns die Vielfalt der Tierwelt die Motive. Ob Haustier oder Wildtier\, ob locker und schnell oder etwas detaillierter: Gemeinsam bringen wir Tiere mit Stift\, Farbe und Fantasie zu Papier. Gearbeitet wird nach Fotovorlagen. Nach Absprache dürfen auch eigene Vorlagen oder sogar das eigene Haustier mitgebracht werden – sofern es sich für ein ruhiges Live-Skizzieren eignet. \n. \n  \nMaterial & Techniken \nMit Fineliner\, Aquarell\, Farbstiften und Mixed Media entstehen lebendige Skizzen\, die sowohl Spaß machen als auch vielfältige kreative Möglichkeiten eröffnen. \nZielgruppe \nFür Anfänger*innen und Fortgeschrittene\, die Lust haben\, Tiere zeichnerisch und malerisch zu entdecken und ihren persönlichen Stil weiterzuentwickeln. \nAblauf \nTag 1: Einführung in verschiedene Zeichentechniken und Übergang zur Malerei mit wasservermalbaren Medien. Wir arbeiten an Formen\, Proportionen\, An- und Ausschnitten\, Haut-\, Feder- und Fellstrukturen sowie am „In-Szene-Setzen“ der Motive. Im Mittelpunkt steht die lockere und leichte Umsetzung in der Skizze. \nTag 2: Kombination von Zeichnung und Aquarell mit weiteren Medien (zum Teil vom Kursleiter gestellt). Die Mixed-Media-Techniken eröffnen neue Ausdrucksmöglichkeiten und regen die Fantasie an. \nDer zweite Tag baut auf dem ersten auf\, beide Tage sind jedoch auch einzeln buchbar. \nDu kannst den 2-tägigen Kurs ohne Material buchen für 238.- € oder inklusive Material im Wert von ca. 50.- € für 258.- €.  \nDie Kursgebühren für einzelne Tage betragen 119.- € ohne und 139.- € mit Materialpaket. \nDie Anmeldung erfolgt per Mail über urbansketching@chrisa.de \nDie Materialliste erhältst Du mit der Buchung. \nWenn Du noch Fragen hast\, sende eine Mail oder ruf an: 0172 3284026 \n  \nKünstler / Mitwirkende\nHans-Christian Sanladerer www.chrisa.de @illuchrisa www.instagram.com/illuchrisa www.facebook.com/illuchrisa www.pinterest.com/illuchrisa
URL:https://franmeisters.de/kalender/urban-sketching-skizzieren-im-kleinen-format-die-kunstpostkarte/
LOCATION:Franmeisters DIY Bar\, Obere Kanalstraße 11A\, Nürnberg\, 90429\, Deutschland
CATEGORIES:Urban Sketching
ATTACH;FMTTYPE=image/jpeg:https://franmeisters.de/wp-content/uploads/2025/09/bailey-hund-schlafenderhund-chrisa-hans-christian-sanladerer-e1758802797916.jpg
END:VEVENT
BEGIN:VEVENT
DTSTART;TZID=Europe/Berlin:20241207T103000
DTEND;TZID=Europe/Berlin:20241207T170000
DTSTAMP:20260421T102616
CREATED:20241106T140742Z
LAST-MODIFIED:20241106T141711Z
UID:10000231-1733567400-1733590800@franmeisters.de
SUMMARY:Urban Sketching #Christmas Sketching auf dem Weihnachtsmarkt
DESCRIPTION:Nach einer Einführung in wunderschönen Atelier der Franmeisters D.I.Y. Bar laufen wir mit unseren Sketching-Materialien zum nahegelegenen Gostenhofer Weihnachtsmarkt und skizzieren vor Ort. Wenn es die Temperaturen nicht erlauben\, wird vor Ort fotografiert und im angenehm warmen Atelier bei Glühwein und angenehmer Atmosphäre skizziert und koloriert. \n    \nWir skizzieren die dekorierten Stände\, die Architektur\, die Menschen und natürlich die Details des vielfältigen Warenangebots. Dieser Kurs ist eine wunderbare Einstimmung auf den nachfolgenden Tag\, an dem wir uns mit dem kleinen Format der Kunstpostkarte beschäftigen. Lass Dich auf die Weihnachtszeit einstimmen. Vielleicht entsteht beim Skizzieren ja das eine oder andere Geschenk für deine Lieben. Der Kurs richtet sich an Anfänger wie an fortgeschrittene Sketcher. \nPreis: 119€ (ohne Goodie Bag)\, 139€ (mit gut gefüllter Goodie Bag im Wert von 50€) \n\n\n\nDie Anmeldung erfolgt per Mail über den Dozenten Hans-Christian Sanladerer urbansketching@chrisa.de \n\n\n\nDie Materialliste erhältst Du mit der Buchung. \n\n\n\nWenn Du noch Fragen hast\, sende eine Mail oder ruf an: 0172 3284026 \nHier geht es zu allen Workshops von Christian.
URL:https://franmeisters.de/kalender/urban-sketching-christmas-sketching-auf-dem-weihnachtsmarkt/
LOCATION:Franmeisters DIY Bar\, Obere Kanalstraße 11A\, Nürnberg\, 90429\, Deutschland
CATEGORIES:Urban Sketching
ATTACH;FMTTYPE=image/jpeg:https://franmeisters.de/wp-content/uploads/2024/09/Christbaumkugel-1-e1730901791350.jpg
END:VEVENT
BEGIN:VEVENT
DTSTART;TZID=UTC:20240629T103000
DTEND;TZID=UTC:20240629T170000
DTSTAMP:20260421T102616
CREATED:20221206T101419Z
LAST-MODIFIED:20240610T110358Z
UID:10000077-1719657000-1719680400@franmeisters.de
SUMMARY:Urban Sketching #Licht und Schatten erkennen
DESCRIPTION:Beobachten lernen\, Dreidimensionalität erzeugen\, Farbe richtig einsetzen\, auf das Wesentliche reduzieren\, Transparenz erzeugen durch Stehenlassen von Papierweiß. \nWas Dich erwartet \nSkizzieren bzw. Zeichnen ist die Voraussetzung für viele künstlerische Techniken – auch für das Malen. \nFragen\, auf die Du in diesem Kurs Antworten findest: Wo und wie begrenze ich die Flächen mit Konturen? Wo sitzen Licht und Schatten? Wie schaffe ich es\, die hellen und dunklen Töne in ausreichenden Kontrasten zu Papier zu bringen. \nWir erzeugen Tonwerte mit Hilfe von Texturen und Schraffuren. Dabei beschränken wir uns anfangs auf eine Farbe\, für eindrucksvolle Skizzen in Schwarz-Weiß\, dunklem Sepia\, Indigo\, Kobaltblau … und ergänzen sparsam weitere Töne. \nDas genaue Beobachten ist Basis und wichtigste Voraussetzung\, um die Szene\, die uns fasziniert\, dreidimensional einzufangen. \nWir beschäftigen uns mit den möglichen Materialien\, den verschiedenen Zeichentechniken\, der Motivwahl\, dem Bildausschnitt\, der räumlichen Wirkung (Perspektive)\, und der Seitengestaltung\, zu der auch die Typografie gehört. \nDer Ton macht die Musik! „Einfarbig“ oder auf wenige Farben reduziert\, aber nicht eintönig\, ist unsere Devise. \n   \nEin Tageskurs für alle\, die Spaß an der Beschreibung der Form mit den vielfältigen Möglichkeiten des zeichnerischen Ausdrucks anhand der schnellen Skizze haben. \nNach einer Einführung im Atelier geht es bei schönem Wetter nach draußen! \nDieser Kurs steht für sich\, kann aber auch als Vorbereitung für den darauffolgenden Kurstag gesehen werden\, denn dann kommt mit dem Aquarell und Mixed Media Farbe ins Spiel. \nMehr Infos und was Du mitbringen sollst bekommst du hier
URL:https://franmeisters.de/kalender/urban-sketching-2/
LOCATION:Franmeisters DIY Bar\, Obere Kanalstraße 11A\, Nürnberg\, 90429\, Deutschland
ATTACH;FMTTYPE=image/jpeg:https://franmeisters.de/wp-content/uploads/2024/01/c1bc9d31-f3cb-4204-99f5-60a75c9724f6.jpeg
END:VEVENT
END:VCALENDAR