BEGIN:VCALENDAR
VERSION:2.0
PRODID:-//Franmeisters DIY Bar - ECPv6.15.20//NONSGML v1.0//EN
CALSCALE:GREGORIAN
METHOD:PUBLISH
X-WR-CALNAME:Franmeisters DIY Bar
X-ORIGINAL-URL:https://franmeisters.de
X-WR-CALDESC:Veranstaltungen für Franmeisters DIY Bar
REFRESH-INTERVAL;VALUE=DURATION:PT1H
X-Robots-Tag:noindex
X-PUBLISHED-TTL:PT1H
BEGIN:VTIMEZONE
TZID:Europe/Berlin
BEGIN:DAYLIGHT
TZOFFSETFROM:+0100
TZOFFSETTO:+0200
TZNAME:CEST
DTSTART:20240331T010000
END:DAYLIGHT
BEGIN:STANDARD
TZOFFSETFROM:+0200
TZOFFSETTO:+0100
TZNAME:CET
DTSTART:20241027T010000
END:STANDARD
BEGIN:DAYLIGHT
TZOFFSETFROM:+0100
TZOFFSETTO:+0200
TZNAME:CEST
DTSTART:20250330T010000
END:DAYLIGHT
BEGIN:STANDARD
TZOFFSETFROM:+0200
TZOFFSETTO:+0100
TZNAME:CET
DTSTART:20251026T010000
END:STANDARD
BEGIN:DAYLIGHT
TZOFFSETFROM:+0100
TZOFFSETTO:+0200
TZNAME:CEST
DTSTART:20260329T010000
END:DAYLIGHT
BEGIN:STANDARD
TZOFFSETFROM:+0200
TZOFFSETTO:+0100
TZNAME:CET
DTSTART:20261025T010000
END:STANDARD
BEGIN:DAYLIGHT
TZOFFSETFROM:+0100
TZOFFSETTO:+0200
TZNAME:CEST
DTSTART:20270328T010000
END:DAYLIGHT
BEGIN:STANDARD
TZOFFSETFROM:+0200
TZOFFSETTO:+0100
TZNAME:CET
DTSTART:20271031T010000
END:STANDARD
END:VTIMEZONE
BEGIN:VTIMEZONE
TZID:Europe/Paris
BEGIN:DAYLIGHT
TZOFFSETFROM:+0100
TZOFFSETTO:+0200
TZNAME:CEST
DTSTART:20220327T010000
END:DAYLIGHT
BEGIN:STANDARD
TZOFFSETFROM:+0200
TZOFFSETTO:+0100
TZNAME:CET
DTSTART:20221030T010000
END:STANDARD
BEGIN:DAYLIGHT
TZOFFSETFROM:+0100
TZOFFSETTO:+0200
TZNAME:CEST
DTSTART:20230326T010000
END:DAYLIGHT
BEGIN:STANDARD
TZOFFSETFROM:+0200
TZOFFSETTO:+0100
TZNAME:CET
DTSTART:20231029T010000
END:STANDARD
BEGIN:DAYLIGHT
TZOFFSETFROM:+0100
TZOFFSETTO:+0200
TZNAME:CEST
DTSTART:20240331T010000
END:DAYLIGHT
BEGIN:STANDARD
TZOFFSETFROM:+0200
TZOFFSETTO:+0100
TZNAME:CET
DTSTART:20241027T010000
END:STANDARD
BEGIN:DAYLIGHT
TZOFFSETFROM:+0100
TZOFFSETTO:+0200
TZNAME:CEST
DTSTART:20250330T010000
END:DAYLIGHT
BEGIN:STANDARD
TZOFFSETFROM:+0200
TZOFFSETTO:+0100
TZNAME:CET
DTSTART:20251026T010000
END:STANDARD
END:VTIMEZONE
BEGIN:VEVENT
DTSTART;TZID=Europe/Berlin:20260213T180000
DTEND;TZID=Europe/Berlin:20260213T210000
DTSTAMP:20260419T152818
CREATED:20251223T134016Z
LAST-MODIFIED:20251223T134016Z
UID:10001397-1771005600-1771016400@franmeisters.de
SUMMARY:Selflove Aroma Workshop
DESCRIPTION:💗✨ Selflove Aromazauber – Dein Abend für dich ✨💗 \nEinen Tag vor Valentinstag laden wir dich zu einem ganz besonderen Workshop ein:Ein Abend\, der sich nur um dich\, deine Sinne und echte Selbstfürsorge dreht. \nBeim Selflove Aromazauber gestaltest du an mehreren kreativen Stationen dein ganz persönliches Wellness-Paket – mit handgemachten Produkten\, die dich im Alltag begleiten und an deine eigene Wertschätzung erinnern. \nDu kannst dir aus verschiedenen Stationen deine Lieblingsprodukte auswählen und individuell gestalten: \n🌸 pflegender Lipbalm (12€) \n🕯️ selbst gegossene Duftkerze (12€) \n🌿 duftender Parfum-Roller (12€) \n💦 sprudelnde Badebombe (6€) \n  \n\n💫 So läuft der Abend ab \n\nZu Beginn nehmen Lena & Franzi dich mit in die Welt der ätherischen Öle. Gemeinsam schauen wir\, welche Düfte dich stärken\, beruhigen oder dir neue Energie schenken – perfekt abgestimmt auf dein persönliches Selflove-Ritual. 🌿\nDanach gehst du in deinem eigenen Tempo durch die Stationen\, wählst deine Lieblingsprodukte und kreierst sie ganz individuell.\nZum Abschluss packst du deine duftenden Kostbarkeiten in eine stilvolle Box\, die du ganz nach deinem Geschmack dekorieren kannst. So entsteht ein liebevoll gestaltetes Wellness-Paket – perfekt als Geschenk oder um dir selbst eine Freude zu machen.\n\n👉 Eine dekorierte Box mit Füllmaterial ist im Preis bereits enthalten. Jede weitere Box kannst du für 5 € dazu erwerben. \nZum Abschluss packst du deine Kreationen in eine liebevoll dekorierte Box – ein Geschenk an dich selbst oder an einen Herzensmenschen. 💝 \n💫 Selflove heißt: dir Zeit nehmen\, dich spüren und dir selbst etwas Gutes tun.Genau dafür ist dieser Abend da. \nDu kannst dir schon vorab überlegen\, welche Produkte du gestalten möchtest\, oder dich spontan vor Ort entscheiden. Die Abrechnung erfolgt dann je nach Auswahl deiner Kreationen. \nWir freuen uns auf euch
URL:https://franmeisters.de/kalender/selflove-aroma-workshop/
LOCATION:Franmeisters DIY Bar\, Obere Kanalstraße 11A\, Nürnberg\, 90429\, Deutschland
CATEGORIES:Workshop mit Ätherischen Ölen
ATTACH;FMTTYPE=image/png:https://franmeisters.de/wp-content/uploads/2025/10/Advensbasteln-Box-e1759930503439.png
END:VEVENT
BEGIN:VEVENT
DTSTART;TZID=Europe/Berlin:20251213T140000
DTEND;TZID=Europe/Berlin:20251213T170000
DTSTAMP:20260419T152818
CREATED:20251008T140210Z
LAST-MODIFIED:20251211T102111Z
UID:10000866-1765634400-1765645200@franmeisters.de
SUMMARY:Adventsbasteln Aromazauber
DESCRIPTION:Tauche ein in eine duftende Adventszeit voller Kreativität und Wohlfühlmomente!Bei unserem Adventsbasteln Aromazauber erwartet dich ein besonderer Abend\, an dem sich alles um die Magie edler Düfte dreht. \nAn fünf liebevoll vorbereiteten Stationen kannst du nach Herzenslust kreativ werden und dir dein ganz persönliches Wellness-Paket zusammenstellen. Dabei hast du die Wahl zwischen: \n🌸 pflegendem Lipbalm (12€) \n🕯️ selbst gegossener Duftkerze (12€) \n🌿 einem duftenden Parfum-Roller (12€) \n💦 sprudelnder Badebombe (6€) \n✨ wohltuendem Bodyscrub (12€) \nDabei stehen dir Lena und Franzi mit Rat\, Ideen und guter Laune zur Seite. Jede Station lädt dich ein\, in die Welt der ätherischen Öle einzutauchen\, ihre Wirkung kennenzulernen und sie harmonisch miteinander zu kombinieren. \n  \n💫 So läuft der Abend ab \n\nZum Auftakt erfährst du Spannendes über die Kraft und Vielfalt ätherischer Öle.\nDanach gehst du in deinem eigenen Tempo durch die Stationen\, wählst deine Lieblingsprodukte und kreierst sie ganz individuell.\nZum Abschluss packst du deine duftenden Kostbarkeiten in eine stilvolle Box\, die du ganz nach deinem Geschmack dekorieren kannst. So entsteht ein liebevoll gestaltetes Wellness-Paket – perfekt als Geschenk oder um dir selbst eine Freude zu machen.\n\n👉 Eine dekorierte Box mit Füllmaterial ist im Preis bereits enthalten. Jede weitere Box kannst du für 5 € dazu erwerben. \nUnd damit es richtig gemütlich wird: Dich erwarten weihnachtliche Snacks\, dazu stehen Tee und Wasser inklusive für dich bereit. \nDu kannst dir schon vorab überlegen\, welche Produkte du gestalten möchtest\, oder dich spontan vor Ort entscheiden. Die Abrechnung erfolgt dann je nach Auswahl deiner Kreationen. \n🌲 In gemütlicher\, vorweihnachtlicher Atmosphäre entsteht so ein einzigartiger Abend voller Düfte\, Wärme und Zauber. 🌲 \nWir freuen uns auf euch
URL:https://franmeisters.de/kalender/adventsbasteln-aromazauber-2/
LOCATION:Franmeisters DIY Bar\, Obere Kanalstraße 11A\, Nürnberg\, 90429\, Deutschland
CATEGORIES:Workshop mit Ätherischen Ölen
ATTACH;FMTTYPE=image/png:https://franmeisters.de/wp-content/uploads/2025/10/Advensbasteln-Box-e1759930503439.png
END:VEVENT
BEGIN:VEVENT
DTSTART;TZID=Europe/Berlin:20251129T130000
DTEND;TZID=Europe/Berlin:20251129T160000
DTSTAMP:20260419T152818
CREATED:20251030T170912Z
LAST-MODIFIED:20251103T133052Z
UID:10000870-1764421200-1764432000@franmeisters.de
SUMMARY:Adventsbasteln Aromazauber
DESCRIPTION:Tauche ein in eine duftende Adventszeit voller Kreativität und Wohlfühlmomente!Bei unserem Adventsbasteln Aromazauber erwartet dich ein besonderer Abend\, an dem sich alles um die Magie edler Düfte dreht. \nAn fünf liebevoll vorbereiteten Stationen kannst du nach Herzenslust kreativ werden und dir dein ganz persönliches Wellness-Paket zusammenstellen. Dabei hast du die Wahl zwischen: \n🌸 pflegendem Lipbalm (12€) \n🕯️ selbst gegossener Duftkerze (12€) \n🌿 einem duftenden Parfum-Roller (12€) \n💦 sprudelnder Badebombe (6€) \n✨ wohltuendem Bodyscrub (12€) \nDabei stehen dir Lena und Franzi mit Rat\, Ideen und guter Laune zur Seite. Jede Station lädt dich ein\, in die Welt der ätherischen Öle einzutauchen\, ihre Wirkung kennenzulernen und sie harmonisch miteinander zu kombinieren. \n  \n💫 So läuft der Abend ab \n\nZum Auftakt erfährst du Spannendes über die Kraft und Vielfalt ätherischer Öle.\nDanach gehst du in deinem eigenen Tempo durch die Stationen\, wählst deine Lieblingsprodukte und kreierst sie ganz individuell.\nZum Abschluss packst du deine duftenden Kostbarkeiten in eine stilvolle Box\, die du ganz nach deinem Geschmack dekorieren kannst. So entsteht ein liebevoll gestaltetes Wellness-Paket – perfekt als Geschenk oder um dir selbst eine Freude zu machen.\n\n👉 Eine dekorierte Box mit Füllmaterial ist im Preis bereits enthalten. Jede weitere Box kannst du für 5 € dazu erwerben. \nUnd damit es richtig gemütlich wird: Dich erwarten weihnachtliche Snacks\, dazu stehen Tee und Wasser inklusive für dich bereit. \nDu kannst dir schon vorab überlegen\, welche Produkte du gestalten möchtest\, oder dich spontan vor Ort entscheiden. Die Abrechnung erfolgt dann je nach Auswahl deiner Kreationen. \n🌲 In gemütlicher\, vorweihnachtlicher Atmosphäre entsteht so ein einzigartiger Abend voller Düfte\, Wärme und Zauber. 🌲 \nWir freuen uns auf euch
URL:https://franmeisters.de/kalender/adventsbasteln-aromazauber-3/
LOCATION:Franmeisters DIY Bar\, Obere Kanalstraße 11A\, Nürnberg\, 90429\, Deutschland
CATEGORIES:Workshop mit Ätherischen Ölen
ATTACH;FMTTYPE=image/png:https://franmeisters.de/wp-content/uploads/2025/10/Advensbasteln-Box-e1759930503439.png
END:VEVENT
BEGIN:VEVENT
DTSTART;TZID=Europe/Berlin:20251128T180000
DTEND;TZID=Europe/Berlin:20251128T210000
DTSTAMP:20260419T152818
CREATED:20251002T134248Z
LAST-MODIFIED:20251013T102303Z
UID:10000864-1764352800-1764363600@franmeisters.de
SUMMARY:Adventsbasteln Aromazauber
DESCRIPTION:Tauche ein in eine duftende Adventszeit voller Kreativität und Wohlfühlmomente!Bei unserem Adventsbasteln Aromazauber erwartet dich ein besonderer Abend\, an dem sich alles um die Magie edler Düfte dreht. \nAn fünf liebevoll vorbereiteten Stationen kannst du nach Herzenslust kreativ werden und dir dein ganz persönliches Wellness-Paket zusammenstellen. Dabei hast du die Wahl zwischen: \n🌸 pflegendem Lipbalm (12€) \n🕯️ selbst gegossener Duftkerze (12€) \n🌿 einem duftenden Parfum-Roller (12€) \n💦 sprudelnder Badebombe (6€) \n✨ wohltuendem Bodyscrub (12€) \nDabei stehen dir Lena und Franzi mit Rat\, Ideen und guter Laune zur Seite. Jede Station lädt dich ein\, in die Welt der ätherischen Öle einzutauchen\, ihre Wirkung kennenzulernen und sie harmonisch miteinander zu kombinieren. \n  \n💫 So läuft der Abend ab \n\nZum Auftakt erfährst du Spannendes über die Kraft und Vielfalt ätherischer Öle.\nDanach gehst du in deinem eigenen Tempo durch die Stationen\, wählst deine Lieblingsprodukte und kreierst sie ganz individuell.\nZum Abschluss packst du deine duftenden Kostbarkeiten in eine stilvolle Box\, die du ganz nach deinem Geschmack dekorieren kannst. So entsteht ein liebevoll gestaltetes Wellness-Paket – perfekt als Geschenk oder um dir selbst eine Freude zu machen.\n\n👉 Eine dekorierte Box mit Füllmaterial ist im Preis bereits enthalten. Jede weitere Box kannst du für 5 € dazu erwerben. \nUnd damit es richtig gemütlich wird: Dich erwarten weihnachtliche Snacks\, dazu stehen Tee und Wasser inklusive für dich bereit. \nDu kannst dir schon vorab überlegen\, welche Produkte du gestalten möchtest\, oder dich spontan vor Ort entscheiden. Die Abrechnung erfolgt dann je nach Auswahl deiner Kreationen. \n🌲 In gemütlicher\, vorweihnachtlicher Atmosphäre entsteht so ein einzigartiger Abend voller Düfte\, Wärme und Zauber. 🌲 \nWir freuen uns auf euch
URL:https://franmeisters.de/kalender/adventsbasteln-aromazauber/
LOCATION:Franmeisters DIY Bar\, Obere Kanalstraße 11A\, Nürnberg\, 90429\, Deutschland
CATEGORIES:Workshop mit Ätherischen Ölen
ATTACH;FMTTYPE=image/png:https://franmeisters.de/wp-content/uploads/2025/10/Advensbasteln-Box-e1759930503439.png
END:VEVENT
BEGIN:VEVENT
DTSTART;TZID=Europe/Paris:20240126T190000
DTEND;TZID=Europe/Paris:20240126T220000
DTSTAMP:20260419T152818
CREATED:20240103T093849Z
LAST-MODIFIED:20240103T093849Z
UID:10000138-1706295600-1706306400@franmeisters.de
SUMMARY:Vollmond Yin Yoga & Meditationsabend
DESCRIPTION:Zum ersten Vollmond im Jahr 2024 verwandeln wir Franzi’s Bastel Bar in eine kleine gemütliche Oase für deinen Körper und Geist. Gemeinsam werden wir eine Yin Yoga Stunde praktizieren und im Anschluss leckeren zeremoniellen Kakao genießen. Nachdem wir unser Herz durch Asanas und den Kakao geöffnet haben\, begeben wir uns auf eine Reise auf der uns die Energie des Vollmondes bei Reflektionsfragen und Journaln begleiten wird. Hierfür liegt dir ein kleines angefertigtes Journal bereit. Du kannst auch gerne dein eigenes Journal mitbringen. \nFür den Abend brauchst du deine eigene Yoga Matte (du kannst auch gerne ein Meditationskissen mitnehmen\, falls du eines besitzt)\, ein bequemes Outfit für die Yoga Session sowie warme Kleidung für danach\, damit du nicht auskühlst (warme\, Socken\, Lieblingspulli etc.). Decken und Yoga Bolster haben wir vor Ort. \n Freitag\, 26. Januar 2023\n 19:00-22:00 Uhr\n  Franmeister’s DIY Bar (Obere Kanalstr. 11a)\n💸 55€\n Trinkwasser\, Tee und zeremonieller Kakao ist inklusive \n🧘‍♀️Bitte eigene Yogamatte mitbringen\, Bolster sind vorhanden \n   \nAm Abend begleitet dich Lena. Sie hat im Juli 2023 ihr 200 Stunden Yoga Teacher Training bei Green Yoga International auf Mallorca absolviert und freut sich riesig ihre Leidenschaft zu teilen und gemeinsam mit euch einen magischen Abend in einer kleinen Runde zu erleben. \n  \nWir freuen uns dich bei diesem ganz besonderen Abend dabei zu haben!
URL:https://franmeisters.de/kalender/vollmond-yin-yoga-meditationsabend/
LOCATION:Franmeisters DIY Bar\, Obere Kanalstraße 11A\, Nürnberg\, 90429\, Deutschland
ATTACH;FMTTYPE=image/jpeg:https://franmeisters.de/wp-content/uploads/2023/11/DSC_0400-scaled-e1700580286256.jpg
ORGANIZER;CN="Lena Adler":MAILTO:hallo@lena-adler.de
END:VEVENT
BEGIN:VEVENT
DTSTART;TZID=Europe/Paris:20231126T190000
DTEND;TZID=Europe/Paris:20231126T220000
DTSTAMP:20260419T152818
CREATED:20231121T152350Z
LAST-MODIFIED:20231126T153700Z
UID:10000123-1701025200-1701036000@franmeisters.de
SUMMARY:Vollmond Yin Yoga & Meditations Abend
DESCRIPTION:Am Sonntag Abend verwandeln wir Franzi’s Bastel Bar in eine kleine gemütliche Oase für deinen Körper und Geist. Gemeinsam werden wir eine Yin Yoga Stunde praktizieren und im Anschluss leckeren zeremoniellen Kakao genießen. Nachdem wir unser Herz durch Asanas und den Kakao geöffnet haben\, begeben wir uns auf eine Reise\, auf der uns die Energie des Vollmondes bei Reflektionsfragen und beim Journalen begleiten wird. Hierfür liegt dir ein kleines angefertigtes Journal bereit. Du kannst auch gerne dein eigenes Journal mitbringen. \nFür den Abend brauchst du deine eigene Yoga Matte (du kannst auch gerne ein Meditationskissen mitnehmen\, falls du eines besitzt)\, ein bequemes Outfit für die Yoga Session sowie warme Kleidung für danach\, damit du nicht auskühlst (warme\, Socken\, Lieblingspulli etc.). Decken und Yoga Bolster haben wir vor Ort. \n Sonntag\, 26. November 2023\n 19:00-22:00 Uhr\n  Franmeister’s DIY Bar (Obere Kanalstr. 11a)\n💸 40€\n Trinkwasser\, Tee und zeremonieller Kakao ist inklusive \n🧘‍♀️Bitte eigene Yogamatte mitbringen\, Bolster sind vorhanden \n   \nAm Abend begleitet dich Lena. Sie hat im Juli 2023 ihr 200 Stunden Yoga Teacher Training bei Green Yoga International auf Mallorca absolviert und freut sich riesig ihre Leidenschaft zu teilen und gemeinsam mit euch einen magischen Abend in einer kleinen Runde zu erleben. \n  \nWir freuen uns dich bei diesem ganz besonderen Abend dabei zu haben!
URL:https://franmeisters.de/kalender/vollmond-yin-yoga-meditations-abend/
LOCATION:Franmeisters DIY Bar\, Obere Kanalstraße 11A\, Nürnberg\, 90429\, Deutschland
ATTACH;FMTTYPE=image/jpeg:https://franmeisters.de/wp-content/uploads/2023/11/DSC_0400-scaled-e1700580286256.jpg
ORGANIZER;CN="Lena Adler":MAILTO:hallo@lena-adler.de
END:VEVENT
END:VCALENDAR